BEGIN:VCALENDAR
VERSION:2.0
PRODID:-//Ela Events - ECPv6.15.20//NONSGML v1.0//EN
CALSCALE:GREGORIAN
METHOD:PUBLISH
X-WR-CALNAME:Ela Events
X-ORIGINAL-URL:https://ela-events.de
X-WR-CALDESC:Veranstaltungen für Ela Events
REFRESH-INTERVAL;VALUE=DURATION:PT1H
X-Robots-Tag:noindex
X-PUBLISHED-TTL:PT1H
BEGIN:VTIMEZONE
TZID:Europe/Berlin
BEGIN:DAYLIGHT
TZOFFSETFROM:+0100
TZOFFSETTO:+0200
TZNAME:CEST
DTSTART:20250330T010000
END:DAYLIGHT
BEGIN:STANDARD
TZOFFSETFROM:+0200
TZOFFSETTO:+0100
TZNAME:CET
DTSTART:20251026T010000
END:STANDARD
BEGIN:DAYLIGHT
TZOFFSETFROM:+0100
TZOFFSETTO:+0200
TZNAME:CEST
DTSTART:20260329T010000
END:DAYLIGHT
BEGIN:STANDARD
TZOFFSETFROM:+0200
TZOFFSETTO:+0100
TZNAME:CET
DTSTART:20261025T010000
END:STANDARD
BEGIN:DAYLIGHT
TZOFFSETFROM:+0100
TZOFFSETTO:+0200
TZNAME:CEST
DTSTART:20270328T010000
END:DAYLIGHT
BEGIN:STANDARD
TZOFFSETFROM:+0200
TZOFFSETTO:+0100
TZNAME:CET
DTSTART:20271031T010000
END:STANDARD
END:VTIMEZONE
BEGIN:VEVENT
DTSTART;TZID=Europe/Berlin:20260425T110000
DTEND;TZID=Europe/Berlin:20260425T133000
DTSTAMP:20260424T103729
CREATED:20260309T171622Z
LAST-MODIFIED:20260309T171622Z
UID:3288-1777114800-1777123800@ela-events.de
SUMMARY:Kulinarische Reise Cracau
DESCRIPTION:Sie möchten einen Platz für diese Führung buchen? Tragen Sie sich hier ein und wir kontaktieren Sie! Es erwarten Sie leckere & genussvolle Kostproben an verschiedenen Stationen. Die jeweilige Dauer beträgt ca. 2\,5 bis 3 Stunden\, Kosten: 41 € p. P. (Kinder 14 €)\, die Gruppen sind auf eine bestimmte Teilnehmerzahl begrenzt. Kurzfristige Änderungen sind jederzeit möglich und werden Ihnen mitgeteilt. \nSchriftliche Anmeldungen über diese Webseite spätestens eine Woche vor Veranstaltungsdatum. Kurzfristige Anfragen gerne unter der Telefonnummer 0178 6569676. \n\n← Zurück Vielen Dank für deine Antwort. ✨\n\n\n					\n						\n							\n							\n						\n						\n						\n						\n						\n							\n								\n									\n										\n										\n									\n									\n										\n										\n									\n								\n							\n						\n						\n							\n								\n									\n									\n										\n									\n									\n									\n								\n							\n						\n					\n				\n\n\n\nName(erforderlich)\n\n \n			\n				\n					\n						\n						\n						\n					\n				\n				\n			 \n	\n\n\nRechnungsadresse (oder Gutscheincode bei Geschenkgutscheinen)(erforderlich)\n\n \n			\n				\n					\n						\n						\n						\n					\n				\n				\n			\n	\n\n\nE-Mail(erforderlich)\n\n \n			\n				\n					\n						\n						\n						\n					\n				\n				\n			 \n	\n\n\nTelefonnummer\n\n \n			\n				\n					\n						\n						\n						\n					\n				\n				\n			 \n	\n\n\nPersonenanzahl Erwachsene(erforderlich)\n\n \n			\n				\n					\n						\n						\n						\n					\n				\n				\n			 \n	\n\n\nPersonenanzahl Kinder\n\n \n			\n				\n					\n						\n						\n						\n					\n				\n				\n			 \n	\n\n\n \nIch akzeptiere die allgemeinen Geschäftsbedingungen (AGB) und die Bestimmungen zum Datenschutz und bestätige\, dass ich hiervon Kenntnis genommen habe.(erforderlich)\n\n\n			\n				\n					\n						\n						\n						\n					\n				\n				\n				\n	\n\n				\n					\n				\n						Senden
URL:https://ela-events.de/event/kulinarische-reise-cracau-8/
LOCATION:Krefeld Cracau
CATEGORIES:Kulinarische Reise durch Cracau
END:VEVENT
BEGIN:VEVENT
DTSTART;TZID=Europe/Berlin:20260509T110000
DTEND;TZID=Europe/Berlin:20260509T133000
DTSTAMP:20260424T103729
CREATED:20260309T171732Z
LAST-MODIFIED:20260309T171732Z
UID:3290-1778324400-1778333400@ela-events.de
SUMMARY:Kulinarische Reise Cracau
DESCRIPTION:Sie möchten einen Platz für diese Führung buchen? Tragen Sie sich hier ein und wir kontaktieren Sie! Es erwarten Sie leckere & genussvolle Kostproben an verschiedenen Stationen. Die jeweilige Dauer beträgt ca. 2\,5 bis 3 Stunden\, Kosten: 41 € p. P. (Kinder 14 €)\, die Gruppen sind auf eine bestimmte Teilnehmerzahl begrenzt. Kurzfristige Änderungen sind jederzeit möglich und werden Ihnen mitgeteilt. \nSchriftliche Anmeldungen über diese Webseite spätestens eine Woche vor Veranstaltungsdatum. Kurzfristige Anfragen gerne unter der Telefonnummer 0178 6569676. \n\n← Zurück Vielen Dank für deine Antwort. ✨\n\n\n					\n						\n							\n							\n						\n						\n						\n						\n						\n							\n								\n									\n										\n										\n									\n									\n										\n										\n									\n								\n							\n						\n						\n							\n								\n									\n									\n										\n									\n									\n									\n								\n							\n						\n					\n				\n\n\n\nName(erforderlich)\n\n \n			\n				\n					\n						\n						\n						\n					\n				\n				\n			 \n	\n\n\nRechnungsadresse (oder Gutscheincode bei Geschenkgutscheinen)(erforderlich)\n\n \n			\n				\n					\n						\n						\n						\n					\n				\n				\n			\n	\n\n\nE-Mail(erforderlich)\n\n \n			\n				\n					\n						\n						\n						\n					\n				\n				\n			 \n	\n\n\nTelefonnummer\n\n \n			\n				\n					\n						\n						\n						\n					\n				\n				\n			 \n	\n\n\nPersonenanzahl Erwachsene(erforderlich)\n\n \n			\n				\n					\n						\n						\n						\n					\n				\n				\n			 \n	\n\n\nPersonenanzahl Kinder\n\n \n			\n				\n					\n						\n						\n						\n					\n				\n				\n			 \n	\n\n\n \nIch akzeptiere die allgemeinen Geschäftsbedingungen (AGB) und die Bestimmungen zum Datenschutz und bestätige\, dass ich hiervon Kenntnis genommen habe.(erforderlich)\n\n\n			\n				\n					\n						\n						\n						\n					\n				\n				\n				\n	\n\n				\n					\n				\n						Senden
URL:https://ela-events.de/event/kulinarische-reise-cracau-9/
LOCATION:Krefeld Cracau
CATEGORIES:Kulinarische Reise durch Cracau
END:VEVENT
BEGIN:VEVENT
DTSTART;TZID=Europe/Berlin:20260620T110000
DTEND;TZID=Europe/Berlin:20260620T133000
DTSTAMP:20260424T103729
CREATED:20260309T171828Z
LAST-MODIFIED:20260309T171828Z
UID:3292-1781953200-1781962200@ela-events.de
SUMMARY:Kulinarische Reise Cracau
DESCRIPTION:Sie möchten einen Platz für diese Führung buchen? Tragen Sie sich hier ein und wir kontaktieren Sie! Es erwarten Sie leckere & genussvolle Kostproben an verschiedenen Stationen. Die jeweilige Dauer beträgt ca. 2\,5 bis 3 Stunden\, Kosten: 41 € p. P. (Kinder 14 €)\, die Gruppen sind auf eine bestimmte Teilnehmerzahl begrenzt. Kurzfristige Änderungen sind jederzeit möglich und werden Ihnen mitgeteilt. \nSchriftliche Anmeldungen über diese Webseite spätestens eine Woche vor Veranstaltungsdatum. Kurzfristige Anfragen gerne unter der Telefonnummer 0178 6569676. \n\n← Zurück Vielen Dank für deine Antwort. ✨\n\n\n					\n						\n							\n							\n						\n						\n						\n						\n						\n							\n								\n									\n										\n										\n									\n									\n										\n										\n									\n								\n							\n						\n						\n							\n								\n									\n									\n										\n									\n									\n									\n								\n							\n						\n					\n				\n\n\n\nName(erforderlich)\n\n \n			\n				\n					\n						\n						\n						\n					\n				\n				\n			 \n	\n\n\nRechnungsadresse (oder Gutscheincode bei Geschenkgutscheinen)(erforderlich)\n\n \n			\n				\n					\n						\n						\n						\n					\n				\n				\n			\n	\n\n\nE-Mail(erforderlich)\n\n \n			\n				\n					\n						\n						\n						\n					\n				\n				\n			 \n	\n\n\nTelefonnummer\n\n \n			\n				\n					\n						\n						\n						\n					\n				\n				\n			 \n	\n\n\nPersonenanzahl Erwachsene(erforderlich)\n\n \n			\n				\n					\n						\n						\n						\n					\n				\n				\n			 \n	\n\n\nPersonenanzahl Kinder\n\n \n			\n				\n					\n						\n						\n						\n					\n				\n				\n			 \n	\n\n\n \nIch akzeptiere die allgemeinen Geschäftsbedingungen (AGB) und die Bestimmungen zum Datenschutz und bestätige\, dass ich hiervon Kenntnis genommen habe.(erforderlich)\n\n\n			\n				\n					\n						\n						\n						\n					\n				\n				\n				\n	\n\n				\n					\n				\n						Senden
URL:https://ela-events.de/event/kulinarische-reise-cracau-10/
LOCATION:Krefeld Cracau
CATEGORIES:Kulinarische Reise durch Cracau
END:VEVENT
BEGIN:VEVENT
DTSTART;TZID=Europe/Berlin:20260718T110000
DTEND;TZID=Europe/Berlin:20260718T133000
DTSTAMP:20260424T103729
CREATED:20260309T171948Z
LAST-MODIFIED:20260309T171948Z
UID:3295-1784372400-1784381400@ela-events.de
SUMMARY:Kulinarische Reise Cracau
DESCRIPTION:Sie möchten einen Platz für diese Führung buchen? Tragen Sie sich hier ein und wir kontaktieren Sie! Es erwarten Sie leckere & genussvolle Kostproben an verschiedenen Stationen. Die jeweilige Dauer beträgt ca. 2\,5 bis 3 Stunden\, Kosten: 41 € p. P. (Kinder 14 €)\, die Gruppen sind auf eine bestimmte Teilnehmerzahl begrenzt. Kurzfristige Änderungen sind jederzeit möglich und werden Ihnen mitgeteilt. \nSchriftliche Anmeldungen über diese Webseite spätestens eine Woche vor Veranstaltungsdatum. Kurzfristige Anfragen gerne unter der Telefonnummer 0178 6569676. \n\n← Zurück Vielen Dank für deine Antwort. ✨\n\n\n					\n						\n							\n							\n						\n						\n						\n						\n						\n							\n								\n									\n										\n										\n									\n									\n										\n										\n									\n								\n							\n						\n						\n							\n								\n									\n									\n										\n									\n									\n									\n								\n							\n						\n					\n				\n\n\n\nName(erforderlich)\n\n \n			\n				\n					\n						\n						\n						\n					\n				\n				\n			 \n	\n\n\nRechnungsadresse (oder Gutscheincode bei Geschenkgutscheinen)(erforderlich)\n\n \n			\n				\n					\n						\n						\n						\n					\n				\n				\n			\n	\n\n\nE-Mail(erforderlich)\n\n \n			\n				\n					\n						\n						\n						\n					\n				\n				\n			 \n	\n\n\nTelefonnummer\n\n \n			\n				\n					\n						\n						\n						\n					\n				\n				\n			 \n	\n\n\nPersonenanzahl Erwachsene(erforderlich)\n\n \n			\n				\n					\n						\n						\n						\n					\n				\n				\n			 \n	\n\n\nPersonenanzahl Kinder\n\n \n			\n				\n					\n						\n						\n						\n					\n				\n				\n			 \n	\n\n\n \nIch akzeptiere die allgemeinen Geschäftsbedingungen (AGB) und die Bestimmungen zum Datenschutz und bestätige\, dass ich hiervon Kenntnis genommen habe.(erforderlich)\n\n\n			\n				\n					\n						\n						\n						\n					\n				\n				\n				\n	\n\n				\n					\n				\n						Senden
URL:https://ela-events.de/event/kulinarische-reise-cracau-11/
LOCATION:Krefeld Cracau
CATEGORIES:Kulinarische Reise durch Cracau
END:VEVENT
BEGIN:VEVENT
DTSTART;TZID=Europe/Berlin:20260815T110000
DTEND;TZID=Europe/Berlin:20260815T133000
DTSTAMP:20260424T103729
CREATED:20260309T172043Z
LAST-MODIFIED:20260309T172043Z
UID:3297-1786791600-1786800600@ela-events.de
SUMMARY:Kulinarische Reise Cracau
DESCRIPTION:Sie möchten einen Platz für diese Führung buchen? Tragen Sie sich hier ein und wir kontaktieren Sie! Es erwarten Sie leckere & genussvolle Kostproben an verschiedenen Stationen. Die jeweilige Dauer beträgt ca. 2\,5 bis 3 Stunden\, Kosten: 41 € p. P. (Kinder 14 €)\, die Gruppen sind auf eine bestimmte Teilnehmerzahl begrenzt. Kurzfristige Änderungen sind jederzeit möglich und werden Ihnen mitgeteilt. \nSchriftliche Anmeldungen über diese Webseite spätestens eine Woche vor Veranstaltungsdatum. Kurzfristige Anfragen gerne unter der Telefonnummer 0178 6569676. \n\n← Zurück Vielen Dank für deine Antwort. ✨\n\n\n					\n						\n							\n							\n						\n						\n						\n						\n						\n							\n								\n									\n										\n										\n									\n									\n										\n										\n									\n								\n							\n						\n						\n							\n								\n									\n									\n										\n									\n									\n									\n								\n							\n						\n					\n				\n\n\n\nName(erforderlich)\n\n \n			\n				\n					\n						\n						\n						\n					\n				\n				\n			 \n	\n\n\nRechnungsadresse (oder Gutscheincode bei Geschenkgutscheinen)(erforderlich)\n\n \n			\n				\n					\n						\n						\n						\n					\n				\n				\n			\n	\n\n\nE-Mail(erforderlich)\n\n \n			\n				\n					\n						\n						\n						\n					\n				\n				\n			 \n	\n\n\nTelefonnummer\n\n \n			\n				\n					\n						\n						\n						\n					\n				\n				\n			 \n	\n\n\nPersonenanzahl Erwachsene(erforderlich)\n\n \n			\n				\n					\n						\n						\n						\n					\n				\n				\n			 \n	\n\n\nPersonenanzahl Kinder\n\n \n			\n				\n					\n						\n						\n						\n					\n				\n				\n			 \n	\n\n\n \nIch akzeptiere die allgemeinen Geschäftsbedingungen (AGB) und die Bestimmungen zum Datenschutz und bestätige\, dass ich hiervon Kenntnis genommen habe.(erforderlich)\n\n\n			\n				\n					\n						\n						\n						\n					\n				\n				\n				\n	\n\n				\n					\n				\n						Senden
URL:https://ela-events.de/event/kulinarische-reise-cracau-12/
LOCATION:Krefeld Cracau
CATEGORIES:Kulinarische Reise durch Cracau
END:VEVENT
BEGIN:VEVENT
DTSTART;TZID=Europe/Berlin:20260912T110000
DTEND;TZID=Europe/Berlin:20260912T133000
DTSTAMP:20260424T103729
CREATED:20260309T172145Z
LAST-MODIFIED:20260309T172145Z
UID:3299-1789210800-1789219800@ela-events.de
SUMMARY:Kulinarische Reise Cracau
DESCRIPTION:Sie möchten einen Platz für diese Führung buchen? Tragen Sie sich hier ein und wir kontaktieren Sie! Es erwarten Sie leckere & genussvolle Kostproben an verschiedenen Stationen. Die jeweilige Dauer beträgt ca. 2\,5 bis 3 Stunden\, Kosten: 41 € p. P. (Kinder 14 €)\, die Gruppen sind auf eine bestimmte Teilnehmerzahl begrenzt. Kurzfristige Änderungen sind jederzeit möglich und werden Ihnen mitgeteilt. \nSchriftliche Anmeldungen über diese Webseite spätestens eine Woche vor Veranstaltungsdatum. Kurzfristige Anfragen gerne unter der Telefonnummer 0178 6569676. \n\n← Zurück Vielen Dank für deine Antwort. ✨\n\n\n					\n						\n							\n							\n						\n						\n						\n						\n						\n							\n								\n									\n										\n										\n									\n									\n										\n										\n									\n								\n							\n						\n						\n							\n								\n									\n									\n										\n									\n									\n									\n								\n							\n						\n					\n				\n\n\n\nName(erforderlich)\n\n \n			\n				\n					\n						\n						\n						\n					\n				\n				\n			 \n	\n\n\nRechnungsadresse (oder Gutscheincode bei Geschenkgutscheinen)(erforderlich)\n\n \n			\n				\n					\n						\n						\n						\n					\n				\n				\n			\n	\n\n\nE-Mail(erforderlich)\n\n \n			\n				\n					\n						\n						\n						\n					\n				\n				\n			 \n	\n\n\nTelefonnummer\n\n \n			\n				\n					\n						\n						\n						\n					\n				\n				\n			 \n	\n\n\nPersonenanzahl Erwachsene(erforderlich)\n\n \n			\n				\n					\n						\n						\n						\n					\n				\n				\n			 \n	\n\n\nPersonenanzahl Kinder\n\n \n			\n				\n					\n						\n						\n						\n					\n				\n				\n			 \n	\n\n\n \nIch akzeptiere die allgemeinen Geschäftsbedingungen (AGB) und die Bestimmungen zum Datenschutz und bestätige\, dass ich hiervon Kenntnis genommen habe.(erforderlich)\n\n\n			\n				\n					\n						\n						\n						\n					\n				\n				\n				\n	\n\n				\n					\n				\n						Senden
URL:https://ela-events.de/event/kulinarische-reise-cracau-13/
LOCATION:Krefeld Cracau
CATEGORIES:Kulinarische Reise durch Cracau
END:VEVENT
BEGIN:VEVENT
DTSTART;TZID=Europe/Berlin:20261017T110000
DTEND;TZID=Europe/Berlin:20261017T133000
DTSTAMP:20260424T103729
CREATED:20260309T172240Z
LAST-MODIFIED:20260309T172240Z
UID:3301-1792234800-1792243800@ela-events.de
SUMMARY:Kulinarische Reise Cracau
DESCRIPTION:Sie möchten einen Platz für diese Führung buchen? Tragen Sie sich hier ein und wir kontaktieren Sie! Es erwarten Sie leckere & genussvolle Kostproben an verschiedenen Stationen. Die jeweilige Dauer beträgt ca. 2\,5 bis 3 Stunden\, Kosten: 41 € p. P. (Kinder 14 €)\, die Gruppen sind auf eine bestimmte Teilnehmerzahl begrenzt. Kurzfristige Änderungen sind jederzeit möglich und werden Ihnen mitgeteilt. \nSchriftliche Anmeldungen über diese Webseite spätestens eine Woche vor Veranstaltungsdatum. Kurzfristige Anfragen gerne unter der Telefonnummer 0178 6569676. \n\n← Zurück Vielen Dank für deine Antwort. ✨\n\n\n					\n						\n							\n							\n						\n						\n						\n						\n						\n							\n								\n									\n										\n										\n									\n									\n										\n										\n									\n								\n							\n						\n						\n							\n								\n									\n									\n										\n									\n									\n									\n								\n							\n						\n					\n				\n\n\n\nName(erforderlich)\n\n \n			\n				\n					\n						\n						\n						\n					\n				\n				\n			 \n	\n\n\nRechnungsadresse (oder Gutscheincode bei Geschenkgutscheinen)(erforderlich)\n\n \n			\n				\n					\n						\n						\n						\n					\n				\n				\n			\n	\n\n\nE-Mail(erforderlich)\n\n \n			\n				\n					\n						\n						\n						\n					\n				\n				\n			 \n	\n\n\nTelefonnummer\n\n \n			\n				\n					\n						\n						\n						\n					\n				\n				\n			 \n	\n\n\nPersonenanzahl Erwachsene(erforderlich)\n\n \n			\n				\n					\n						\n						\n						\n					\n				\n				\n			 \n	\n\n\nPersonenanzahl Kinder\n\n \n			\n				\n					\n						\n						\n						\n					\n				\n				\n			 \n	\n\n\n \nIch akzeptiere die allgemeinen Geschäftsbedingungen (AGB) und die Bestimmungen zum Datenschutz und bestätige\, dass ich hiervon Kenntnis genommen habe.(erforderlich)\n\n\n			\n				\n					\n						\n						\n						\n					\n				\n				\n				\n	\n\n				\n					\n				\n						Senden
URL:https://ela-events.de/event/kulinarische-reise-cracau-14/
LOCATION:Krefeld Cracau
CATEGORIES:Kulinarische Reise durch Cracau
END:VEVENT
BEGIN:VEVENT
DTSTART;TZID=Europe/Berlin:20261107T110000
DTEND;TZID=Europe/Berlin:20261107T133000
DTSTAMP:20260424T103730
CREATED:20260309T172336Z
LAST-MODIFIED:20260309T172336Z
UID:3303-1794049200-1794058200@ela-events.de
SUMMARY:Kulinarische Reise Cracau
DESCRIPTION:Sie möchten einen Platz für diese Führung buchen? Tragen Sie sich hier ein und wir kontaktieren Sie! Es erwarten Sie leckere & genussvolle Kostproben an verschiedenen Stationen. Die jeweilige Dauer beträgt ca. 2\,5 bis 3 Stunden\, Kosten: 41 € p. P. (Kinder 14 €)\, die Gruppen sind auf eine bestimmte Teilnehmerzahl begrenzt. Kurzfristige Änderungen sind jederzeit möglich und werden Ihnen mitgeteilt. \nSchriftliche Anmeldungen über diese Webseite spätestens eine Woche vor Veranstaltungsdatum. Kurzfristige Anfragen gerne unter der Telefonnummer 0178 6569676. \n\n← Zurück Vielen Dank für deine Antwort. ✨\n\n\n					\n						\n							\n							\n						\n						\n						\n						\n						\n							\n								\n									\n										\n										\n									\n									\n										\n										\n									\n								\n							\n						\n						\n							\n								\n									\n									\n										\n									\n									\n									\n								\n							\n						\n					\n				\n\n\n\nName(erforderlich)\n\n \n			\n				\n					\n						\n						\n						\n					\n				\n				\n			 \n	\n\n\nRechnungsadresse (oder Gutscheincode bei Geschenkgutscheinen)(erforderlich)\n\n \n			\n				\n					\n						\n						\n						\n					\n				\n				\n			\n	\n\n\nE-Mail(erforderlich)\n\n \n			\n				\n					\n						\n						\n						\n					\n				\n				\n			 \n	\n\n\nTelefonnummer\n\n \n			\n				\n					\n						\n						\n						\n					\n				\n				\n			 \n	\n\n\nPersonenanzahl Erwachsene(erforderlich)\n\n \n			\n				\n					\n						\n						\n						\n					\n				\n				\n			 \n	\n\n\nPersonenanzahl Kinder\n\n \n			\n				\n					\n						\n						\n						\n					\n				\n				\n			 \n	\n\n\n \nIch akzeptiere die allgemeinen Geschäftsbedingungen (AGB) und die Bestimmungen zum Datenschutz und bestätige\, dass ich hiervon Kenntnis genommen habe.(erforderlich)\n\n\n			\n				\n					\n						\n						\n						\n					\n				\n				\n				\n	\n\n				\n					\n				\n						Senden
URL:https://ela-events.de/event/kulinarische-reise-cracau-15/
LOCATION:Krefeld Cracau
CATEGORIES:Kulinarische Reise durch Cracau
END:VEVENT
END:VCALENDAR